BEGIN:VCALENDAR
VERSION:2.0
PRODID:-//Harmony United Methodist Church - ECPv6.15.20//NONSGML v1.0//EN
CALSCALE:GREGORIAN
METHOD:PUBLISH
X-WR-CALNAME:Harmony United Methodist Church
X-ORIGINAL-URL:https://harmonyva.org
X-WR-CALDESC:Events for Harmony United Methodist Church
REFRESH-INTERVAL;VALUE=DURATION:PT1H
X-Robots-Tag:noindex
X-PUBLISHED-TTL:PT1H
BEGIN:VTIMEZONE
TZID:America/New_York
BEGIN:DAYLIGHT
TZOFFSETFROM:-0500
TZOFFSETTO:-0400
TZNAME:EDT
DTSTART:20220313T070000
END:DAYLIGHT
BEGIN:STANDARD
TZOFFSETFROM:-0400
TZOFFSETTO:-0500
TZNAME:EST
DTSTART:20221106T060000
END:STANDARD
BEGIN:DAYLIGHT
TZOFFSETFROM:-0500
TZOFFSETTO:-0400
TZNAME:EDT
DTSTART:20230312T070000
END:DAYLIGHT
BEGIN:STANDARD
TZOFFSETFROM:-0400
TZOFFSETTO:-0500
TZNAME:EST
DTSTART:20231105T060000
END:STANDARD
BEGIN:DAYLIGHT
TZOFFSETFROM:-0500
TZOFFSETTO:-0400
TZNAME:EDT
DTSTART:20240310T070000
END:DAYLIGHT
BEGIN:STANDARD
TZOFFSETFROM:-0400
TZOFFSETTO:-0500
TZNAME:EST
DTSTART:20241103T060000
END:STANDARD
END:VTIMEZONE
BEGIN:VEVENT
DTSTART;TZID=America/New_York:20231008T140000
DTEND;TZID=America/New_York:20231008T150000
DTSTAMP:20260419T180955
CREATED:20230914T155543Z
LAST-MODIFIED:20230914T155543Z
UID:11999-1696773600-1696777200@harmonyva.org
SUMMARY:Blessing of the Animals
DESCRIPTION:We are so excited to bring back the Blessing of the Animals!  Plan to bring your dogs\, cats\, goats\, chickens\, whatever fuzzy or feathery family pets you have on Sunday\, October 8th\, at 2pm. We will meet in the Harmony parking lot and Pastor Larry will bless them all!  We may even have a treat for your furry friends.  We look forward to seeing you then! \nThe Blessing of the Animals started around the 13th century by St. Francis of Assisi who held a great sense of care and respect for all creatures. \n 
URL:https://harmonyva.org/event/blessing-of-the-animals/
END:VEVENT
END:VCALENDAR