BEGIN:VCALENDAR
VERSION:2.0
PRODID:-//Harmony United Methodist Church - ECPv6.15.20//NONSGML v1.0//EN
CALSCALE:GREGORIAN
METHOD:PUBLISH
X-WR-CALNAME:Harmony United Methodist Church
X-ORIGINAL-URL:https://harmonyva.org
X-WR-CALDESC:Events for Harmony United Methodist Church
REFRESH-INTERVAL;VALUE=DURATION:PT1H
X-Robots-Tag:noindex
X-PUBLISHED-TTL:PT1H
BEGIN:VTIMEZONE
TZID:America/New_York
BEGIN:DAYLIGHT
TZOFFSETFROM:-0500
TZOFFSETTO:-0400
TZNAME:EDT
DTSTART:20230312T070000
END:DAYLIGHT
BEGIN:STANDARD
TZOFFSETFROM:-0400
TZOFFSETTO:-0500
TZNAME:EST
DTSTART:20231105T060000
END:STANDARD
BEGIN:DAYLIGHT
TZOFFSETFROM:-0500
TZOFFSETTO:-0400
TZNAME:EDT
DTSTART:20240310T070000
END:DAYLIGHT
BEGIN:STANDARD
TZOFFSETFROM:-0400
TZOFFSETTO:-0500
TZNAME:EST
DTSTART:20241103T060000
END:STANDARD
BEGIN:DAYLIGHT
TZOFFSETFROM:-0500
TZOFFSETTO:-0400
TZNAME:EDT
DTSTART:20250309T070000
END:DAYLIGHT
BEGIN:STANDARD
TZOFFSETFROM:-0400
TZOFFSETTO:-0500
TZNAME:EST
DTSTART:20251102T060000
END:STANDARD
END:VTIMEZONE
BEGIN:VEVENT
DTSTART;TZID=America/New_York:20241012T080000
DTEND;TZID=America/New_York:20241012T180000
DTSTAMP:20260421T103200
CREATED:20240905T151134Z
LAST-MODIFIED:20240905T151134Z
UID:12480-1728720000-1728756000@harmonyva.org
SUMMARY:Purcellville Tag Sale
DESCRIPTION:On Saturday\, October 12 from 8:00 am to 6:00 pm\, HUMC will be joining in the Purcellville Tag Sale. Our booth will be in the usual spot behind Nostalgia on Main Street and will feature “Fyne Junque” at great prices as well as a bit of a Bake Sale and Holiday \nBazaar preview. This is a nice fund raiser and low-key outreach event for our church. If you’d like to help with set up\, during the sale\, or with clean up\, please use the Sign Up Genius link in the Friday email or on the website\, or contact Becky Haines. \n 
URL:https://harmonyva.org/event/purcellville-tag-sale-2/
END:VEVENT
END:VCALENDAR