BEGIN:VCALENDAR
VERSION:2.0
PRODID:-//Harmony United Methodist Church - ECPv6.15.20//NONSGML v1.0//EN
CALSCALE:GREGORIAN
METHOD:PUBLISH
X-WR-CALNAME:Harmony United Methodist Church
X-ORIGINAL-URL:https://harmonyva.org
X-WR-CALDESC:Events for Harmony United Methodist Church
REFRESH-INTERVAL;VALUE=DURATION:PT1H
X-Robots-Tag:noindex
X-PUBLISHED-TTL:PT1H
BEGIN:VTIMEZONE
TZID:America/New_York
BEGIN:DAYLIGHT
TZOFFSETFROM:-0500
TZOFFSETTO:-0400
TZNAME:EDT
DTSTART:20210314T070000
END:DAYLIGHT
BEGIN:STANDARD
TZOFFSETFROM:-0400
TZOFFSETTO:-0500
TZNAME:EST
DTSTART:20211107T060000
END:STANDARD
BEGIN:DAYLIGHT
TZOFFSETFROM:-0500
TZOFFSETTO:-0400
TZNAME:EDT
DTSTART:20220313T070000
END:DAYLIGHT
BEGIN:STANDARD
TZOFFSETFROM:-0400
TZOFFSETTO:-0500
TZNAME:EST
DTSTART:20221106T060000
END:STANDARD
BEGIN:DAYLIGHT
TZOFFSETFROM:-0500
TZOFFSETTO:-0400
TZNAME:EDT
DTSTART:20230312T070000
END:DAYLIGHT
BEGIN:STANDARD
TZOFFSETFROM:-0400
TZOFFSETTO:-0500
TZNAME:EST
DTSTART:20231105T060000
END:STANDARD
END:VTIMEZONE
BEGIN:VEVENT
DTSTART;TZID=America/New_York:20221011T190000
DTEND;TZID=America/New_York:20221011T190000
DTSTAMP:20260419T112111
CREATED:20220929T180241Z
LAST-MODIFIED:20220929T180241Z
UID:10930-1665514800-1665514800@harmonyva.org
SUMMARY:Finance Meeting
DESCRIPTION:
URL:https://harmonyva.org/event/finance-meeting-10/
END:VEVENT
BEGIN:VEVENT
DTSTART;TZID=America/New_York:20221018T190000
DTEND;TZID=America/New_York:20221018T190000
DTSTAMP:20260419T112111
CREATED:20221017T155907Z
LAST-MODIFIED:20221017T155907Z
UID:10980-1666119600-1666119600@harmonyva.org
SUMMARY:Stewardship meeting via Zoom
DESCRIPTION:
URL:https://harmonyva.org/event/stewardship-meeting-via-zoom/
END:VEVENT
BEGIN:VEVENT
DTSTART;TZID=America/New_York:20221019T170000
DTEND;TZID=America/New_York:20221019T170000
DTSTAMP:20260419T112111
CREATED:20221017T155934Z
LAST-MODIFIED:20221017T155934Z
UID:10982-1666198800-1666198800@harmonyva.org
SUMMARY:Missions Meeting
DESCRIPTION:
URL:https://harmonyva.org/event/missions-meeting-3/
END:VEVENT
BEGIN:VEVENT
DTSTART;TZID=America/New_York:20221024T190000
DTEND;TZID=America/New_York:20221024T190000
DTSTAMP:20260419T112111
CREATED:20221017T160007Z
LAST-MODIFIED:20221017T160007Z
UID:10984-1666638000-1666638000@harmonyva.org
SUMMARY:UMM Meeting
DESCRIPTION:
URL:https://harmonyva.org/event/umm-meeting-6/
END:VEVENT
BEGIN:VEVENT
DTSTART;TZID=America/New_York:20221028T190000
DTEND;TZID=America/New_York:20221028T190000
DTSTAMP:20260419T112111
CREATED:20221025T124819Z
LAST-MODIFIED:20221025T124819Z
UID:10990-1666983600-1666983600@harmonyva.org
SUMMARY:Movie Night
DESCRIPTION:It’s a Wonderful Life
URL:https://harmonyva.org/event/movie-night/
END:VEVENT
BEGIN:VEVENT
DTSTART;TZID=America/New_York:20221030T170000
DTEND;TZID=America/New_York:20221030T170000
DTSTAMP:20260419T112111
CREATED:20221025T125003Z
LAST-MODIFIED:20221025T125003Z
UID:10992-1667149200-1667149200@harmonyva.org
SUMMARY:Youth Group
DESCRIPTION:Middle and High School Youth meet from 5pm to 7pm\, dinner included. Contact Pastor Maggie at mcroghan@harmonyva.org
URL:https://harmonyva.org/event/youth-group-3/2022-10-30/
END:VEVENT
END:VCALENDAR