BEGIN:VCALENDAR
VERSION:2.0
PRODID:-//Harmony United Methodist Church - ECPv6.15.20//NONSGML v1.0//EN
CALSCALE:GREGORIAN
METHOD:PUBLISH
X-WR-CALNAME:Harmony United Methodist Church
X-ORIGINAL-URL:https://harmonyva.org
X-WR-CALDESC:Events for Harmony United Methodist Church
REFRESH-INTERVAL;VALUE=DURATION:PT1H
X-Robots-Tag:noindex
X-PUBLISHED-TTL:PT1H
BEGIN:VTIMEZONE
TZID:America/New_York
BEGIN:DAYLIGHT
TZOFFSETFROM:-0500
TZOFFSETTO:-0400
TZNAME:EDT
DTSTART:20210314T070000
END:DAYLIGHT
BEGIN:STANDARD
TZOFFSETFROM:-0400
TZOFFSETTO:-0500
TZNAME:EST
DTSTART:20211107T060000
END:STANDARD
BEGIN:DAYLIGHT
TZOFFSETFROM:-0500
TZOFFSETTO:-0400
TZNAME:EDT
DTSTART:20220313T070000
END:DAYLIGHT
BEGIN:STANDARD
TZOFFSETFROM:-0400
TZOFFSETTO:-0500
TZNAME:EST
DTSTART:20221106T060000
END:STANDARD
BEGIN:DAYLIGHT
TZOFFSETFROM:-0500
TZOFFSETTO:-0400
TZNAME:EDT
DTSTART:20230312T070000
END:DAYLIGHT
BEGIN:STANDARD
TZOFFSETFROM:-0400
TZOFFSETTO:-0500
TZNAME:EST
DTSTART:20231105T060000
END:STANDARD
END:VTIMEZONE
BEGIN:VEVENT
DTSTART;TZID=America/New_York:20221115T190000
DTEND;TZID=America/New_York:20221115T200000
DTSTAMP:20260419T094827
CREATED:20221111T163258Z
LAST-MODIFIED:20221111T163258Z
UID:11127-1668538800-1668542400@harmonyva.org
SUMMARY:Church Council Meeting
DESCRIPTION:
URL:https://harmonyva.org/event/church-council-meeting/
END:VEVENT
BEGIN:VEVENT
DTSTART;TZID=America/New_York:20221119T090000
DTEND;TZID=America/New_York:20221119T140000
DTSTAMP:20260419T094827
CREATED:20221111T163139Z
LAST-MODIFIED:20221111T163139Z
UID:11124-1668848400-1668866400@harmonyva.org
SUMMARY:Holiday Bazaar\, Silent Auction\, and Bake Sale
DESCRIPTION:
URL:https://harmonyva.org/event/holiday-bazaar-silent-auction-and-bake-sale/
END:VEVENT
BEGIN:VEVENT
DTSTART;VALUE=DATE:20221124
DTEND;VALUE=DATE:20221125
DTSTAMP:20260419T094827
CREATED:20221111T163622Z
LAST-MODIFIED:20221111T163622Z
UID:11135-1669248000-1669334399@harmonyva.org
SUMMARY:Happy Thanksgiving
DESCRIPTION:
URL:https://harmonyva.org/event/happy-thanksgiving/
END:VEVENT
BEGIN:VEVENT
DTSTART;VALUE=DATE:20221124
DTEND;VALUE=DATE:20221126
DTSTAMP:20260419T094827
CREATED:20221111T163701Z
LAST-MODIFIED:20221111T163701Z
UID:11137-1669248000-1669420799@harmonyva.org
SUMMARY:Church Offices Closed
DESCRIPTION:
URL:https://harmonyva.org/event/church-offices-closed/
END:VEVENT
BEGIN:VEVENT
DTSTART;VALUE=DATE:20221127
DTEND;VALUE=DATE:20221128
DTSTAMP:20260419T094827
CREATED:20221111T163453Z
LAST-MODIFIED:20221111T163453Z
UID:11129-1669507200-1669593599@harmonyva.org
SUMMARY:First Sunday of Advent
DESCRIPTION:
URL:https://harmonyva.org/event/first-sunday-of-advent/
END:VEVENT
BEGIN:VEVENT
DTSTART;TZID=America/New_York:20221129T190000
DTEND;TZID=America/New_York:20221129T200000
DTSTAMP:20260419T094827
CREATED:20221111T164320Z
LAST-MODIFIED:20221111T164320Z
UID:11147-1669748400-1669752000@harmonyva.org
SUMMARY:The Redemption of Scrooge Advent Study
DESCRIPTION:
URL:https://harmonyva.org/event/the-redemption-of-scrooge-advent-study/2022-11-29/
END:VEVENT
END:VCALENDAR