BEGIN:VCALENDAR
VERSION:2.0
PRODID:-//Harmony United Methodist Church - ECPv6.15.20//NONSGML v1.0//EN
CALSCALE:GREGORIAN
METHOD:PUBLISH
X-ORIGINAL-URL:https://harmonyva.org
X-WR-CALDESC:Events for Harmony United Methodist Church
REFRESH-INTERVAL;VALUE=DURATION:PT1H
X-Robots-Tag:noindex
X-PUBLISHED-TTL:PT1H
BEGIN:VTIMEZONE
TZID:America/New_York
BEGIN:DAYLIGHT
TZOFFSETFROM:-0500
TZOFFSETTO:-0400
TZNAME:EDT
DTSTART:20210314T070000
END:DAYLIGHT
BEGIN:STANDARD
TZOFFSETFROM:-0400
TZOFFSETTO:-0500
TZNAME:EST
DTSTART:20211107T060000
END:STANDARD
BEGIN:DAYLIGHT
TZOFFSETFROM:-0500
TZOFFSETTO:-0400
TZNAME:EDT
DTSTART:20220313T070000
END:DAYLIGHT
BEGIN:STANDARD
TZOFFSETFROM:-0400
TZOFFSETTO:-0500
TZNAME:EST
DTSTART:20221106T060000
END:STANDARD
BEGIN:DAYLIGHT
TZOFFSETFROM:-0500
TZOFFSETTO:-0400
TZNAME:EDT
DTSTART:20230312T070000
END:DAYLIGHT
BEGIN:STANDARD
TZOFFSETFROM:-0400
TZOFFSETTO:-0500
TZNAME:EST
DTSTART:20231105T060000
END:STANDARD
BEGIN:DAYLIGHT
TZOFFSETFROM:-0500
TZOFFSETTO:-0400
TZNAME:EDT
DTSTART:20240310T070000
END:DAYLIGHT
BEGIN:STANDARD
TZOFFSETFROM:-0400
TZOFFSETTO:-0500
TZNAME:EST
DTSTART:20241103T060000
END:STANDARD
END:VTIMEZONE
BEGIN:VEVENT
DTSTART;TZID=America/New_York:20221204T110000
DTEND;TZID=America/New_York:20221204T123000
DTSTAMP:20260419T082132
CREATED:20221111T164701Z
LAST-MODIFIED:20221111T164701Z
UID:11154-1670151600-1670157000@harmonyva.org
SUMMARY:UMW Unit Meeting
DESCRIPTION:
URL:https://harmonyva.org/event/umw-unit-meeting-2/
END:VEVENT
BEGIN:VEVENT
DTSTART;TZID=America/New_York:20221204T140000
DTEND;TZID=America/New_York:20221204T160000
DTSTAMP:20260419T082132
CREATED:20221111T164617Z
LAST-MODIFIED:20221111T164617Z
UID:11152-1670162400-1670169600@harmonyva.org
SUMMARY:Choir Christmas Program
DESCRIPTION:
URL:https://harmonyva.org/event/choir-christmas-program/
END:VEVENT
BEGIN:VEVENT
DTSTART;TZID=America/New_York:20221208T170000
DTEND;TZID=America/New_York:20221208T170000
DTSTAMP:20260419T082132
CREATED:20221206T185914Z
LAST-MODIFIED:20221206T185914Z
UID:11188-1670518800-1670518800@harmonyva.org
SUMMARY:Missions Meeting
DESCRIPTION:
URL:https://harmonyva.org/event/missions-meeting-4/
END:VEVENT
BEGIN:VEVENT
DTSTART;TZID=America/New_York:20221210T110000
DTEND;TZID=America/New_York:20221210T170000
DTSTAMP:20260419T082132
CREATED:20221206T185957Z
LAST-MODIFIED:20221206T185957Z
UID:11190-1670670000-1670691600@harmonyva.org
SUMMARY:Nancy Moorcones Memorial Service
DESCRIPTION:
URL:https://harmonyva.org/event/nancy-moorcones-memorial-service/
END:VEVENT
BEGIN:VEVENT
DTSTART;TZID=America/New_York:20221213T190000
DTEND;TZID=America/New_York:20221213T190000
DTSTAMP:20260419T082132
CREATED:20221206T190022Z
LAST-MODIFIED:20221206T190022Z
UID:11192-1670958000-1670958000@harmonyva.org
SUMMARY:Finance Meeting
DESCRIPTION:
URL:https://harmonyva.org/event/finance-meeting/
END:VEVENT
BEGIN:VEVENT
DTSTART;TZID=America/New_York:20221214T093000
DTEND;TZID=America/New_York:20221214T170000
DTSTAMP:20260419T082132
CREATED:20221206T190051Z
LAST-MODIFIED:20221206T190051Z
UID:11194-1671010200-1671037200@harmonyva.org
SUMMARY:Dana Tyson Circle Meeting
DESCRIPTION:
URL:https://harmonyva.org/event/dana-tyson-circle-meeting/
END:VEVENT
BEGIN:VEVENT
DTSTART;TZID=America/New_York:20221214T110000
DTEND;TZID=America/New_York:20221214T170000
DTSTAMP:20260419T082132
CREATED:20221206T190118Z
LAST-MODIFIED:20221206T190118Z
UID:11196-1671015600-1671037200@harmonyva.org
SUMMARY:Preschool Christmas Program
DESCRIPTION:
URL:https://harmonyva.org/event/preschool-christmas-program/
END:VEVENT
BEGIN:VEVENT
DTSTART;TZID=America/New_York:20221215T110000
DTEND;TZID=America/New_York:20221215T170000
DTSTAMP:20260419T082132
CREATED:20221206T190144Z
LAST-MODIFIED:20221206T190144Z
UID:11198-1671102000-1671123600@harmonyva.org
SUMMARY:Preschool Christmas Program
DESCRIPTION:
URL:https://harmonyva.org/event/preschool-christmas-program-2/
END:VEVENT
BEGIN:VEVENT
DTSTART;TZID=America/New_York:20221216T180000
DTEND;TZID=America/New_York:20221216T180000
DTSTAMP:20260419T082132
CREATED:20221206T190208Z
LAST-MODIFIED:20221206T190208Z
UID:11200-1671213600-1671213600@harmonyva.org
SUMMARY:Youth Christmas Party
DESCRIPTION:
URL:https://harmonyva.org/event/youth-christmas-party/
END:VEVENT
BEGIN:VEVENT
DTSTART;TZID=America/New_York:20221224T170000
DTEND;TZID=America/New_York:20221224T180000
DTSTAMP:20260419T082132
CREATED:20221111T164755Z
LAST-MODIFIED:20221111T164755Z
UID:11156-1671901200-1671904800@harmonyva.org
SUMMARY:Children's Christmas Program
DESCRIPTION:
URL:https://harmonyva.org/event/childrens-christmas-program/
END:VEVENT
BEGIN:VEVENT
DTSTART;TZID=America/New_York:20221224T190000
DTEND;TZID=America/New_York:20221224T200000
DTSTAMP:20260419T082132
CREATED:20221111T163524Z
LAST-MODIFIED:20221111T163524Z
UID:11131-1671908400-1671912000@harmonyva.org
SUMMARY:Christmas Eve Service
DESCRIPTION:
URL:https://harmonyva.org/event/christmas-eve-service/
END:VEVENT
BEGIN:VEVENT
DTSTART;TZID=America/New_York:20221224T210000
DTEND;TZID=America/New_York:20221224T220000
DTSTAMP:20260419T082132
CREATED:20221111T163553Z
LAST-MODIFIED:20221111T163553Z
UID:11133-1671915600-1671919200@harmonyva.org
SUMMARY:Christmas Eve Service
DESCRIPTION:
URL:https://harmonyva.org/event/christmas-eve-service-2/
END:VEVENT
BEGIN:VEVENT
DTSTART;VALUE=DATE:20221226
DTEND;VALUE=DATE:20230103
DTSTAMP:20260419T082132
CREATED:20221206T190251Z
LAST-MODIFIED:20221206T190251Z
UID:11202-1672012800-1672703999@harmonyva.org
SUMMARY:Church Offices Closed
DESCRIPTION:
URL:https://harmonyva.org/event/church-offices-closed-2/
END:VEVENT
END:VCALENDAR