BEGIN:VCALENDAR
VERSION:2.0
PRODID:-//Harmony United Methodist Church - ECPv6.15.20//NONSGML v1.0//EN
CALSCALE:GREGORIAN
METHOD:PUBLISH
X-ORIGINAL-URL:https://harmonyva.org
X-WR-CALDESC:Events for Harmony United Methodist Church
REFRESH-INTERVAL;VALUE=DURATION:PT1H
X-Robots-Tag:noindex
X-PUBLISHED-TTL:PT1H
BEGIN:VTIMEZONE
TZID:America/New_York
BEGIN:DAYLIGHT
TZOFFSETFROM:-0500
TZOFFSETTO:-0400
TZNAME:EDT
DTSTART:20220313T070000
END:DAYLIGHT
BEGIN:STANDARD
TZOFFSETFROM:-0400
TZOFFSETTO:-0500
TZNAME:EST
DTSTART:20221106T060000
END:STANDARD
BEGIN:DAYLIGHT
TZOFFSETFROM:-0500
TZOFFSETTO:-0400
TZNAME:EDT
DTSTART:20230312T070000
END:DAYLIGHT
BEGIN:STANDARD
TZOFFSETFROM:-0400
TZOFFSETTO:-0500
TZNAME:EST
DTSTART:20231105T060000
END:STANDARD
BEGIN:DAYLIGHT
TZOFFSETFROM:-0500
TZOFFSETTO:-0400
TZNAME:EDT
DTSTART:20240310T070000
END:DAYLIGHT
BEGIN:STANDARD
TZOFFSETFROM:-0400
TZOFFSETTO:-0500
TZNAME:EST
DTSTART:20241103T060000
END:STANDARD
END:VTIMEZONE
BEGIN:VEVENT
DTSTART;TZID=America/New_York:20230702T100000
DTEND;TZID=America/New_York:20230702T170000
DTSTAMP:20260419T112435
CREATED:20230526T123715Z
LAST-MODIFIED:20230526T123715Z
UID:11724-1688292000-1688317200@harmonyva.org
SUMMARY:Worship with Pastor Larry
DESCRIPTION:
URL:https://harmonyva.org/event/worship-with-pastor-larry/
END:VEVENT
BEGIN:VEVENT
DTSTART;TZID=America/New_York:20230702T110000
DTEND;TZID=America/New_York:20230702T130000
DTSTAMP:20260419T112435
CREATED:20230614T172023Z
LAST-MODIFIED:20230614T172023Z
UID:11766-1688295600-1688302800@harmonyva.org
SUMMARY:Welcome Brunch for Pastor Larry
DESCRIPTION:
URL:https://harmonyva.org/event/welcome-brunch-for-pastor-larry/
END:VEVENT
BEGIN:VEVENT
DTSTART;TZID=America/New_York:20230711T190000
DTEND;TZID=America/New_York:20230711T190000
DTSTAMP:20260419T112435
CREATED:20230614T172257Z
LAST-MODIFIED:20230913T150903Z
UID:11772-1689102000-1689102000@harmonyva.org
SUMMARY:Finance Meeting
DESCRIPTION:
URL:https://harmonyva.org/event/finance-meeting-4/2023-07-11/
END:VEVENT
BEGIN:VEVENT
DTSTART;TZID=America/New_York:20230718T190000
DTEND;TZID=America/New_York:20230718T190000
DTSTAMP:20260419T112435
CREATED:20230614T172349Z
LAST-MODIFIED:20230614T172349Z
UID:11777-1689706800-1689706800@harmonyva.org
SUMMARY:Church Council Meeting
DESCRIPTION:
URL:https://harmonyva.org/event/church-council-meeting-7/2023-07-18/
END:VEVENT
BEGIN:VEVENT
DTSTART;TZID=America/New_York:20230724T090000
DTEND;TZID=America/New_York:20230728T120000
DTSTAMP:20260419T112435
CREATED:20230614T172526Z
LAST-MODIFIED:20230614T172526Z
UID:11781-1690189200-1690545600@harmonyva.org
SUMMARY:VBS Week
DESCRIPTION:
URL:https://harmonyva.org/event/vbs-week/
END:VEVENT
BEGIN:VEVENT
DTSTART;TZID=America/New_York:20230724T190000
DTEND;TZID=America/New_York:20230724T200000
DTSTAMP:20260419T112435
CREATED:20230717T151544Z
LAST-MODIFIED:20230717T151544Z
UID:11818-1690225200-1690228800@harmonyva.org
SUMMARY:UMM Meeting
DESCRIPTION:
URL:https://harmonyva.org/event/umm-meeting-8/
END:VEVENT
END:VCALENDAR