BEGIN:VCALENDAR
VERSION:2.0
PRODID:-//Harmony United Methodist Church - ECPv6.15.20//NONSGML v1.0//EN
CALSCALE:GREGORIAN
METHOD:PUBLISH
X-WR-CALNAME:Harmony United Methodist Church
X-ORIGINAL-URL:https://harmonyva.org
X-WR-CALDESC:Events for Harmony United Methodist Church
REFRESH-INTERVAL;VALUE=DURATION:PT1H
X-Robots-Tag:noindex
X-PUBLISHED-TTL:PT1H
BEGIN:VTIMEZONE
TZID:America/New_York
BEGIN:DAYLIGHT
TZOFFSETFROM:-0500
TZOFFSETTO:-0400
TZNAME:EDT
DTSTART:20220313T070000
END:DAYLIGHT
BEGIN:STANDARD
TZOFFSETFROM:-0400
TZOFFSETTO:-0500
TZNAME:EST
DTSTART:20221106T060000
END:STANDARD
BEGIN:DAYLIGHT
TZOFFSETFROM:-0500
TZOFFSETTO:-0400
TZNAME:EDT
DTSTART:20230312T070000
END:DAYLIGHT
BEGIN:STANDARD
TZOFFSETFROM:-0400
TZOFFSETTO:-0500
TZNAME:EST
DTSTART:20231105T060000
END:STANDARD
BEGIN:DAYLIGHT
TZOFFSETFROM:-0500
TZOFFSETTO:-0400
TZNAME:EDT
DTSTART:20240310T070000
END:DAYLIGHT
BEGIN:STANDARD
TZOFFSETFROM:-0400
TZOFFSETTO:-0500
TZNAME:EST
DTSTART:20241103T060000
END:STANDARD
END:VTIMEZONE
BEGIN:VEVENT
DTSTART;TZID=America/New_York:20231215T170000
DTEND;TZID=America/New_York:20231215T210000
DTSTAMP:20260419T200843
CREATED:20231207T183627Z
LAST-MODIFIED:20231207T183755Z
UID:12135-1702659600-1702674000@harmonyva.org
SUMMARY:Parent's Night Out
DESCRIPTION:Harmony Preschool and HUMC Youth are teaming up for a Parent’s Night Out on 12/15.  We have a few spaces available and you can sign up in the Friday email or on the Harmony website\, harmonyva.org.  Checks are made payable to Harmony Preschool and due at the time you sign up. \n 
URL:https://harmonyva.org/event/parents-night-out/
END:VEVENT
BEGIN:VEVENT
DTSTART;TZID=America/New_York:20231217T100000
DTEND;TZID=America/New_York:20231217T110000
DTSTAMP:20260419T200843
CREATED:20231121T152605Z
LAST-MODIFIED:20231121T154647Z
UID:12110-1702807200-1702810800@harmonyva.org
SUMMARY:Choir Cantata
DESCRIPTION:
URL:https://harmonyva.org/event/choir-cantata/
END:VEVENT
BEGIN:VEVENT
DTSTART;TZID=America/New_York:20231224T100000
DTEND;TZID=America/New_York:20231224T110000
DTSTAMP:20260419T200843
CREATED:20231025T155858Z
LAST-MODIFIED:20231025T155858Z
UID:12078-1703412000-1703415600@harmonyva.org
SUMMARY:Worship Service
DESCRIPTION:
URL:https://harmonyva.org/event/worship-service/
END:VEVENT
BEGIN:VEVENT
DTSTART;TZID=America/New_York:20231224T190000
DTEND;TZID=America/New_York:20231224T200000
DTSTAMP:20260419T200843
CREATED:20231025T155932Z
LAST-MODIFIED:20231025T155932Z
UID:12080-1703444400-1703448000@harmonyva.org
SUMMARY:Christmas Eve Family Service
DESCRIPTION:
URL:https://harmonyva.org/event/christmas-eve-family-service/
END:VEVENT
BEGIN:VEVENT
DTSTART;TZID=America/New_York:20231224T210000
DTEND;TZID=America/New_York:20231224T220000
DTSTAMP:20260419T200843
CREATED:20231025T160003Z
LAST-MODIFIED:20231025T160003Z
UID:12082-1703451600-1703455200@harmonyva.org
SUMMARY:Christmas Eve Candlelight Service
DESCRIPTION:
URL:https://harmonyva.org/event/christmas-eve-candlelight-service/
END:VEVENT
END:VCALENDAR