BEGIN:VCALENDAR
VERSION:2.0
PRODID:-//Harmony United Methodist Church - ECPv6.15.20//NONSGML v1.0//EN
CALSCALE:GREGORIAN
METHOD:PUBLISH
X-ORIGINAL-URL:https://harmonyva.org
X-WR-CALDESC:Events for Harmony United Methodist Church
REFRESH-INTERVAL;VALUE=DURATION:PT1H
X-Robots-Tag:noindex
X-PUBLISHED-TTL:PT1H
BEGIN:VTIMEZONE
TZID:America/New_York
BEGIN:DAYLIGHT
TZOFFSETFROM:-0500
TZOFFSETTO:-0400
TZNAME:EDT
DTSTART:20240310T070000
END:DAYLIGHT
BEGIN:STANDARD
TZOFFSETFROM:-0400
TZOFFSETTO:-0500
TZNAME:EST
DTSTART:20241103T060000
END:STANDARD
BEGIN:DAYLIGHT
TZOFFSETFROM:-0500
TZOFFSETTO:-0400
TZNAME:EDT
DTSTART:20250309T070000
END:DAYLIGHT
BEGIN:STANDARD
TZOFFSETFROM:-0400
TZOFFSETTO:-0500
TZNAME:EST
DTSTART:20251102T060000
END:STANDARD
BEGIN:DAYLIGHT
TZOFFSETFROM:-0500
TZOFFSETTO:-0400
TZNAME:EDT
DTSTART:20260308T070000
END:DAYLIGHT
BEGIN:STANDARD
TZOFFSETFROM:-0400
TZOFFSETTO:-0500
TZNAME:EST
DTSTART:20261101T060000
END:STANDARD
END:VTIMEZONE
BEGIN:VEVENT
DTSTART;VALUE=DATE:20250712
DTEND;VALUE=DATE:20250713
DTSTAMP:20260419T110951
CREATED:20250529T143121Z
LAST-MODIFIED:20250529T143121Z
UID:12882-1752278400-1752364799@harmonyva.org
SUMMARY:JWA Visit
DESCRIPTION:
URL:https://harmonyva.org/event/jwa-visit/
END:VEVENT
BEGIN:VEVENT
DTSTART;TZID=America/New_York:20250714T090000
DTEND;TZID=America/New_York:20250718T120000
DTSTAMP:20260419T110951
CREATED:20250714T174316Z
LAST-MODIFIED:20250714T174316Z
UID:12919-1752483600-1752840000@harmonyva.org
SUMMARY:Vacation Bible School
DESCRIPTION:
URL:https://harmonyva.org/event/vacation-bible-school-2/
END:VEVENT
BEGIN:VEVENT
DTSTART;TZID=America/New_York:20250715T180000
DTEND;TZID=America/New_York:20250715T190000
DTSTAMP:20260419T110951
CREATED:20250624T175250Z
LAST-MODIFIED:20250624T175250Z
UID:12899-1752602400-1752606000@harmonyva.org
SUMMARY:Church Council Meeting
DESCRIPTION:
URL:https://harmonyva.org/event/church-council-meeting-12/
END:VEVENT
END:VCALENDAR