BEGIN:VCALENDAR
VERSION:2.0
PRODID:-//Harmony United Methodist Church - ECPv6.15.20//NONSGML v1.0//EN
CALSCALE:GREGORIAN
METHOD:PUBLISH
X-WR-CALNAME:Harmony United Methodist Church
X-ORIGINAL-URL:https://harmonyva.org
X-WR-CALDESC:Events for Harmony United Methodist Church
REFRESH-INTERVAL;VALUE=DURATION:PT1H
X-Robots-Tag:noindex
X-PUBLISHED-TTL:PT1H
BEGIN:VTIMEZONE
TZID:America/New_York
BEGIN:DAYLIGHT
TZOFFSETFROM:-0500
TZOFFSETTO:-0400
TZNAME:EDT
DTSTART:20240310T070000
END:DAYLIGHT
BEGIN:STANDARD
TZOFFSETFROM:-0400
TZOFFSETTO:-0500
TZNAME:EST
DTSTART:20241103T060000
END:STANDARD
BEGIN:DAYLIGHT
TZOFFSETFROM:-0500
TZOFFSETTO:-0400
TZNAME:EDT
DTSTART:20250309T070000
END:DAYLIGHT
BEGIN:STANDARD
TZOFFSETFROM:-0400
TZOFFSETTO:-0500
TZNAME:EST
DTSTART:20251102T060000
END:STANDARD
BEGIN:DAYLIGHT
TZOFFSETFROM:-0500
TZOFFSETTO:-0400
TZNAME:EDT
DTSTART:20260308T070000
END:DAYLIGHT
BEGIN:STANDARD
TZOFFSETFROM:-0400
TZOFFSETTO:-0500
TZNAME:EST
DTSTART:20261101T060000
END:STANDARD
END:VTIMEZONE
BEGIN:VEVENT
DTSTART;TZID=America/New_York:20251008T093000
DTEND;TZID=America/New_York:20251008T113000
DTSTAMP:20260419T131130
CREATED:20250820T172759Z
LAST-MODIFIED:20250916T204907Z
UID:12981-1759915800-1759923000@harmonyva.org
SUMMARY:Dana Tyson Circle Meeting
DESCRIPTION:
URL:https://harmonyva.org/event/dana-tyson-circle-meeting-4-2025-10-01/2025-10-08/
END:VEVENT
BEGIN:VEVENT
DTSTART;TZID=America/New_York:20251011T080000
DTEND;TZID=America/New_York:20251011T180000
DTSTAMP:20260419T131130
CREATED:20250923T160015Z
LAST-MODIFIED:20250923T160015Z
UID:13032-1760169600-1760205600@harmonyva.org
SUMMARY:Purcellville Tag Sale
DESCRIPTION:
URL:https://harmonyva.org/event/purcellville-tag-sale-3/
END:VEVENT
BEGIN:VEVENT
DTSTART;TZID=America/New_York:20251026T160000
DTEND;TZID=America/New_York:20251026T170000
DTSTAMP:20260419T131130
CREATED:20251021T145507Z
LAST-MODIFIED:20251021T145507Z
UID:13059-1761494400-1761498000@harmonyva.org
SUMMARY:Youth Group at Harmony
DESCRIPTION:
URL:https://harmonyva.org/event/youth-group-at-harmony/
END:VEVENT
END:VCALENDAR