BEGIN:VCALENDAR
VERSION:2.0
PRODID:-//Harmony United Methodist Church - ECPv6.15.20//NONSGML v1.0//EN
CALSCALE:GREGORIAN
METHOD:PUBLISH
X-WR-CALNAME:Harmony United Methodist Church
X-ORIGINAL-URL:https://harmonyva.org
X-WR-CALDESC:Events for Harmony United Methodist Church
REFRESH-INTERVAL;VALUE=DURATION:PT1H
X-Robots-Tag:noindex
X-PUBLISHED-TTL:PT1H
BEGIN:VTIMEZONE
TZID:America/New_York
BEGIN:DAYLIGHT
TZOFFSETFROM:-0500
TZOFFSETTO:-0400
TZNAME:EDT
DTSTART:20250309T070000
END:DAYLIGHT
BEGIN:STANDARD
TZOFFSETFROM:-0400
TZOFFSETTO:-0500
TZNAME:EST
DTSTART:20251102T060000
END:STANDARD
BEGIN:DAYLIGHT
TZOFFSETFROM:-0500
TZOFFSETTO:-0400
TZNAME:EDT
DTSTART:20260308T070000
END:DAYLIGHT
BEGIN:STANDARD
TZOFFSETFROM:-0400
TZOFFSETTO:-0500
TZNAME:EST
DTSTART:20261101T060000
END:STANDARD
BEGIN:DAYLIGHT
TZOFFSETFROM:-0500
TZOFFSETTO:-0400
TZNAME:EDT
DTSTART:20270314T070000
END:DAYLIGHT
BEGIN:STANDARD
TZOFFSETFROM:-0400
TZOFFSETTO:-0500
TZNAME:EST
DTSTART:20271107T060000
END:STANDARD
END:VTIMEZONE
BEGIN:VEVENT
DTSTART;TZID=America/New_York:20260310T180000
DTEND;TZID=America/New_York:20260310T190000
DTSTAMP:20260423T105950
CREATED:20250916T205045Z
LAST-MODIFIED:20250916T205045Z
UID:13022-1773165600-1773169200@harmonyva.org
SUMMARY:Trustee meeting
DESCRIPTION:
URL:https://harmonyva.org/event/trustee-meeting-2/2026-03-10/
END:VEVENT
BEGIN:VEVENT
DTSTART;TZID=America/New_York:20260310T190000
DTEND;TZID=America/New_York:20260310T190000
DTSTAMP:20260423T105950
CREATED:20230614T172257Z
LAST-MODIFIED:20230614T172257Z
UID:13007-1773169200-1773169200@harmonyva.org
SUMMARY:Finance Meeting
DESCRIPTION:
URL:https://harmonyva.org/event/finance-meeting-4/2026-03-10/
END:VEVENT
BEGIN:VEVENT
DTSTART;TZID=America/New_York:20260311T093000
DTEND;TZID=America/New_York:20260311T110000
DTSTAMP:20260423T105950
CREATED:20260302T170417Z
LAST-MODIFIED:20260302T170417Z
UID:13212-1773221400-1773226800@harmonyva.org
SUMMARY:Dana Tyson Circle
DESCRIPTION:
URL:https://harmonyva.org/event/dana-tyson-circle-3/
END:VEVENT
BEGIN:VEVENT
DTSTART;TZID=America/New_York:20260317T180000
DTEND;TZID=America/New_York:20260317T190000
DTSTAMP:20260423T105950
CREATED:20260217T190344Z
LAST-MODIFIED:20260217T190344Z
UID:13196-1773770400-1773774000@harmonyva.org
SUMMARY:Church Council Meeting
DESCRIPTION:
URL:https://harmonyva.org/event/church-council-meeting-14/
END:VEVENT
END:VCALENDAR